BEGIN:VCALENDAR
VERSION:2.0
PRODID:-//Cobra Nashville - ECPv6.15.20//NONSGML v1.0//EN
CALSCALE:GREGORIAN
METHOD:PUBLISH
X-WR-CALNAME:Cobra Nashville
X-ORIGINAL-URL:https://cobranashville.com
X-WR-CALDESC:Events for Cobra Nashville
REFRESH-INTERVAL;VALUE=DURATION:PT1H
X-Robots-Tag:noindex
X-PUBLISHED-TTL:PT1H
BEGIN:VTIMEZONE
TZID:America/Chicago
BEGIN:DAYLIGHT
TZOFFSETFROM:-0600
TZOFFSETTO:-0500
TZNAME:CDT
DTSTART:20250309T080000
END:DAYLIGHT
BEGIN:STANDARD
TZOFFSETFROM:-0500
TZOFFSETTO:-0600
TZNAME:CST
DTSTART:20251102T070000
END:STANDARD
BEGIN:DAYLIGHT
TZOFFSETFROM:-0600
TZOFFSETTO:-0500
TZNAME:CDT
DTSTART:20260308T080000
END:DAYLIGHT
BEGIN:STANDARD
TZOFFSETFROM:-0500
TZOFFSETTO:-0600
TZNAME:CST
DTSTART:20261101T070000
END:STANDARD
BEGIN:DAYLIGHT
TZOFFSETFROM:-0600
TZOFFSETTO:-0500
TZNAME:CDT
DTSTART:20270314T080000
END:DAYLIGHT
BEGIN:STANDARD
TZOFFSETFROM:-0500
TZOFFSETTO:-0600
TZNAME:CST
DTSTART:20271107T070000
END:STANDARD
END:VTIMEZONE
BEGIN:VEVENT
DTSTART;TZID=America/Chicago:20260423T190000
DTEND;TZID=America/Chicago:20260423T190000
DTSTAMP:20260423T040747
CREATED:20260215T180305Z
LAST-MODIFIED:20260215T190142Z
UID:12687-1776970800-1776970800@cobranashville.com
SUMMARY:Venue: The Broken View | Devil's Cut | Five Year Winter | Crooked Souls
DESCRIPTION:Tickets: $15 ADV | $20 DOS\n\n\n\n\n\n\n\n18 and UP +
URL:https://cobranashville.com/event/venue-the-broken-view-closure-devils-cut-five-year-winter-crooked-souls/
ATTACH;FMTTYPE=image/jpeg:https://cobranashville.com/wp-content/uploads/2026/02/Heading-2.jpg
END:VEVENT
BEGIN:VEVENT
DTSTART;TZID=America/Chicago:20260424T220000
DTEND;TZID=America/Chicago:20260424T220000
DTSTAMP:20260423T040747
CREATED:20260421T183706Z
LAST-MODIFIED:20260421T211716Z
UID:13154-1777068000-1777068000@cobranashville.com
SUMMARY:Front Bar: FCS Soundsystem presents BOVVER BOUVLEVARD
DESCRIPTION:FREE\n\n\n\n\n\n\n\n21 and UP +
URL:https://cobranashville.com/event/venue-fcs-soundsystem-presents-bovver-bouvlevard/
ATTACH;FMTTYPE=image/png:https://cobranashville.com/wp-content/uploads/2026/04/IMG_0258.png
END:VEVENT
BEGIN:VEVENT
DTSTART;TZID=America/Chicago:20260425T190000
DTEND;TZID=America/Chicago:20260425T190000
DTSTAMP:20260423T040747
CREATED:20260412T214912Z
LAST-MODIFIED:20260413T010731Z
UID:13113-1777143600-1777143600@cobranashville.com
SUMMARY:Front Bar: Kelley Cole | Running Late | Sleep John B
DESCRIPTION:Tickets: $10 @ the Door\n\n\n\n\n\n\n\n21 and UP +
URL:https://cobranashville.com/event/front-bar-kelley-cole-running-late-sleep-john-b/
ATTACH;FMTTYPE=image/jpeg:https://cobranashville.com/wp-content/uploads/2026/04/IMG_9787.jpeg
END:VEVENT
BEGIN:VEVENT
DTSTART;TZID=America/Chicago:20260425T220000
DTEND;TZID=America/Chicago:20260425T220000
DTSTAMP:20260423T040747
CREATED:20260410T192406Z
LAST-MODIFIED:20260410T193250Z
UID:13092-1777154400-1777154400@cobranashville.com
SUMMARY:Venue: Another Night Another Dream
DESCRIPTION:Tickets: $10 ADV | $15 DOS\n\n\n\n\n\n\n\n18 and UP +
URL:https://cobranashville.com/event/venue-another-night-another-dream/
ATTACH;FMTTYPE=image/jpeg:https://cobranashville.com/wp-content/uploads/2026/04/IMG_8966-2-scaled.jpg
END:VEVENT
BEGIN:VEVENT
DTSTART;TZID=America/Chicago:20260426T190000
DTEND;TZID=America/Chicago:20260426T190000
DTSTAMP:20260423T040747
CREATED:20260412T152310Z
LAST-MODIFIED:20260412T153211Z
UID:13100-1777230000-1777230000@cobranashville.com
SUMMARY:Venue: Wadaness | Starbored | The Semi-Supervillains
DESCRIPTION:Tickets: $10 ADV | $15 DOS\n\n\n\n\n\n\n\n18 and UP +\n\n\n\n\nProcessed with VSCO with al3 preset
URL:https://cobranashville.com/event/venue-wadaness-starbored-the-semi-supervillains/
ATTACH;FMTTYPE=image/jpeg:https://cobranashville.com/wp-content/uploads/2026/04/41B04A76-9FF6-4E70-9ED9-8AAB7B272E02_VSCO-scaled.jpeg
END:VEVENT
BEGIN:VEVENT
DTSTART;TZID=America/Chicago:20260427T190000
DTEND;TZID=America/Chicago:20260427T190000
DTSTAMP:20260423T040747
CREATED:20260410T191424Z
LAST-MODIFIED:20260410T192149Z
UID:13088-1777316400-1777316400@cobranashville.com
SUMMARY:Venue: Addison Rose | Bella McCormick | Myles Youngman | The Magnolia Brothers
DESCRIPTION:Tickets: $20 ADV | $25 DOS\n\n\n\n\n\n\n\n18 and UP +
URL:https://cobranashville.com/event/venue-addison-rose-bella-mccormick-myles-youngman-the-magnolia-brothers/
ATTACH;FMTTYPE=image/jpeg:https://cobranashville.com/wp-content/uploads/2026/04/Cobra-draft-Instagram-Post-45.jpeg
END:VEVENT
BEGIN:VEVENT
DTSTART;TZID=America/Chicago:20260428T190000
DTEND;TZID=America/Chicago:20260428T190000
DTSTAMP:20260423T040747
CREATED:20260410T184842Z
LAST-MODIFIED:20260410T190104Z
UID:13079-1777402800-1777402800@cobranashville.com
SUMMARY:Front Bar: Love Is Like a Haunted House | Poetry Clouds & Songs of Lingering
DESCRIPTION:Tickets: $5 @ the Door\n\n\n\n\n\n\n\n21 and UP +
URL:https://cobranashville.com/event/front-bar-love-is-like-a-haunted-house-poetry-clouds-songs-of-lingering/
ATTACH;FMTTYPE=image/jpeg:https://cobranashville.com/wp-content/uploads/2026/04/2949-scaled.jpg
END:VEVENT
BEGIN:VEVENT
DTSTART;TZID=America/Chicago:20260428T190000
DTEND;TZID=America/Chicago:20260428T190000
DTSTAMP:20260423T040747
CREATED:20260412T153353Z
LAST-MODIFIED:20260412T163628Z
UID:13104-1777402800-1777402800@cobranashville.com
SUMMARY:Venue: San Calisto | Pyramia | So Sorry
DESCRIPTION:Tickets: $10 ADV | $15 DOS\n\n\n\n\n\n\n\n18 and UP +
URL:https://cobranashville.com/event/venue-san-calisto-pyramia-so-sorry/
ATTACH;FMTTYPE=image/jpeg:https://cobranashville.com/wp-content/uploads/2026/04/PYRAMA_COBRA_4_4_2026_DATE-EDIT.jpeg
END:VEVENT
BEGIN:VEVENT
DTSTART;TZID=America/Chicago:20260429T190000
DTEND;TZID=America/Chicago:20260429T190000
DTSTAMP:20260423T040747
CREATED:20260403T162632Z
LAST-MODIFIED:20260403T182426Z
UID:13021-1777489200-1777489200@cobranashville.com
SUMMARY:Venue: PB&TAT | The Skrewups | Hayloft
DESCRIPTION:Tickets: $12 ADV | $18 DOS\n\n\n\n\n\n\n\n\n\n\n\n18 and UP +
URL:https://cobranashville.com/event/venue-pbtat-the-skrewups-hayloft/
ATTACH;FMTTYPE=image/png:https://cobranashville.com/wp-content/uploads/2026/04/nashville-edited.png
END:VEVENT
BEGIN:VEVENT
DTSTART;TZID=America/Chicago:20260430T190000
DTEND;TZID=America/Chicago:20260430T190000
DTSTAMP:20260423T040747
CREATED:20251206T193951Z
LAST-MODIFIED:20251207T204622Z
UID:12222-1777575600-1777575600@cobranashville.com
SUMMARY:Venue: Cordell Winter | Leilani Kilgore | Rick Monroe & the Hitmen
DESCRIPTION:Tickets: $20 ADV | $25 DOS\n\n\n\n\n\n\n\n18 and UP +
URL:https://cobranashville.com/event/venue-cordell-winter-leilani-kilgore-rick-monroe-the-hitmen/
ATTACH;FMTTYPE=image/png:https://cobranashville.com/wp-content/uploads/2025/12/Cobra-Apr-30-flyer.png
END:VEVENT
BEGIN:VEVENT
DTSTART;TZID=America/Chicago:20260501T190000
DTEND;TZID=America/Chicago:20260501T190000
DTSTAMP:20260423T040747
CREATED:20260311T231500Z
LAST-MODIFIED:20260311T232153Z
UID:12886-1777662000-1777662000@cobranashville.com
SUMMARY:Venue: Ashes to Omens | Etchstone | Summon the Moon | Atlas Light
DESCRIPTION:Tickets: $15 ADV | $20 DOS\n\n\n\n\n\n\n\n18 and UP +
URL:https://cobranashville.com/event/venue-ashes-to-omens-etchstone-summon-the-moon-atlas-light/
ATTACH;FMTTYPE=image/jpeg:https://cobranashville.com/wp-content/uploads/2026/03/8aac1f2a-c800-4f0d-9725-6114a07cb649.jpg
END:VEVENT
BEGIN:VEVENT
DTSTART;TZID=America/Chicago:20260503T190000
DTEND;TZID=America/Chicago:20260503T190000
DTSTAMP:20260423T040747
CREATED:20260422T220902Z
LAST-MODIFIED:20260422T221400Z
UID:13172-1777834800-1777834800@cobranashville.com
SUMMARY:Venue: Blue Willow | Byrd Whystle | Jude Mauk | Mercy Hanson
DESCRIPTION:Tickets: $10\n\n\n\n\n\n\n\n18 and UP
URL:https://cobranashville.com/event/venue-blue-willow-byrd-whystle-jude-mauk-mercy-hanson/
ATTACH;FMTTYPE=image/jpeg:https://cobranashville.com/wp-content/uploads/2026/04/6C8DF710-38CE-4782-9132-46F432BA75E4.jpeg
END:VEVENT
BEGIN:VEVENT
DTSTART;TZID=America/Chicago:20260505T190000
DTEND;TZID=America/Chicago:20260505T190000
DTSTAMP:20260423T040747
CREATED:20260326T222452Z
LAST-MODIFIED:20260327T000242Z
UID:12985-1778007600-1778007600@cobranashville.com
SUMMARY:Venue: Chocolate Carseat | Terrain | Skylar Lazor
DESCRIPTION:Tickets: $10 ADV | $15 DOS\n\n\n\n\n\n\n\n18 and UP +
URL:https://cobranashville.com/event/venue-chocolate-carseat-terrain-skylar-lazor/
ATTACH;FMTTYPE=image/png:https://cobranashville.com/wp-content/uploads/2026/03/1000012289.png
END:VEVENT
BEGIN:VEVENT
DTSTART;TZID=America/Chicago:20260506T183000
DTEND;TZID=America/Chicago:20260506T183000
DTSTAMP:20260423T040747
CREATED:20260217T013400Z
LAST-MODIFIED:20260420T173413Z
UID:12712-1778092200-1778092200@cobranashville.com
SUMMARY:Venue: Left on Red | The Almas | Poet\, the Band | Skylar Love | Barley Relevant
DESCRIPTION:Tickets: $13 ADV | $18 DOS\n\n\n\n\n\n\n\n18 and UP +
URL:https://cobranashville.com/event/venue-burn-absolute-poet-the-band-the-almas-hexproof/
ATTACH;FMTTYPE=image/jpeg:https://cobranashville.com/wp-content/uploads/2026/02/Your-paragraph-text-1.jpeg
END:VEVENT
BEGIN:VEVENT
DTSTART;TZID=America/Chicago:20260508T190000
DTEND;TZID=America/Chicago:20260508T190000
DTSTAMP:20260423T040747
CREATED:20260420T233431Z
LAST-MODIFIED:20260420T235542Z
UID:13134-1778266800-1778266800@cobranashville.com
SUMMARY:Venue: Stuck Lucky | Joker's Republic | The Doom Stompers
DESCRIPTION:Tickets: $10 ADV | $15 DOS\n\n\n\n\n\n\n\n18 and UP +
URL:https://cobranashville.com/event/venue-stuck-lucky-jokers-republic-the-doom-stompers/
ATTACH;FMTTYPE=image/jpeg:https://cobranashville.com/wp-content/uploads/2026/04/202603241636-scaled.jpg
END:VEVENT
BEGIN:VEVENT
DTSTART;TZID=America/Chicago:20260509T203000
DTEND;TZID=America/Chicago:20260509T203000
DTSTAMP:20260423T040747
CREATED:20260410T193526Z
LAST-MODIFIED:20260412T150900Z
UID:13096-1778358600-1778358600@cobranashville.com
SUMMARY:Venue: Madeline Goldstein | Normal Bias | Ultraviolet Eden
DESCRIPTION:Tickets: $10 ADV | $15 DOS\n\n\n\n\n\n\n\n18 and UP +
URL:https://cobranashville.com/event/venue-madeline-goldstein-normal-bias-ultraviolet-eden/
ATTACH;FMTTYPE=image/png:https://cobranashville.com/wp-content/uploads/2026/04/madeline-2-scaled.png
END:VEVENT
BEGIN:VEVENT
DTSTART;TZID=America/Chicago:20260510T190000
DTEND;TZID=America/Chicago:20260510T190000
DTSTAMP:20260423T040747
CREATED:20260305T181837Z
LAST-MODIFIED:20260305T182625Z
UID:12863-1778439600-1778439600@cobranashville.com
SUMMARY:Venue: Alborn | Devil's Cut | Droughts | Creek Devil
DESCRIPTION:Tickets: $15 ADV | $20 DOS\n\n\n\n\n\n\n\n18 and UP +
URL:https://cobranashville.com/event/venue-alborn-devils-cut-droughts-creek-devil/
ATTACH;FMTTYPE=image/jpeg:https://cobranashville.com/wp-content/uploads/2026/03/7b185496-ba74-4d18-a3b4-736668a5b686.jpg
END:VEVENT
BEGIN:VEVENT
DTSTART;TZID=America/Chicago:20260513T190000
DTEND;TZID=America/Chicago:20260513T190000
DTSTAMP:20260423T040747
CREATED:20260410T190234Z
LAST-MODIFIED:20260410T191244Z
UID:13083-1778698800-1778698800@cobranashville.com
SUMMARY:Venue: War on Women | Herly Berly | The Phoenix Lights
DESCRIPTION:Tickets: $15 ADV | $20 DOS\n\n\n\n\n\n\n\n18 and UP +
URL:https://cobranashville.com/event/venue-war-on-women-herly-berly-the-phoenix-lights/
ATTACH;FMTTYPE=image/jpeg:https://cobranashville.com/wp-content/uploads/2026/04/Nashville-flyer.jpeg
END:VEVENT
BEGIN:VEVENT
DTSTART;TZID=America/Chicago:20260515T190000
DTEND;TZID=America/Chicago:20260515T190000
DTSTAMP:20260423T040747
CREATED:20260222T221559Z
LAST-MODIFIED:20260222T223412Z
UID:12732-1778871600-1778871600@cobranashville.com
SUMMARY:Front Bar: Scott Ivey & The Filthy Frets |  Blue Honey | Still Moves
DESCRIPTION:Tickets: $10 @ the Door\n\n\n\n\n\n\n\n21 and UP +
URL:https://cobranashville.com/event/front-bar-scott-ivey-the-filthy-frets-blue-honey-still-moves-2/
ATTACH;FMTTYPE=image/jpeg:https://cobranashville.com/wp-content/uploads/2026/02/Cobra-5-15.jpg
END:VEVENT
BEGIN:VEVENT
DTSTART;TZID=America/Chicago:20260516T190000
DTEND;TZID=America/Chicago:20260516T190000
DTSTAMP:20260423T040747
CREATED:20260422T173432Z
LAST-MODIFIED:20260422T204757Z
UID:13162-1778958000-1778958000@cobranashville.com
SUMMARY:Venue: CritterBrain | L.I.P.S. | Rotten Luck | Barcode
DESCRIPTION:Tickets: $10 ADV | $15 DOS\n\n\n\n\n\n\n\nALL AGES!
URL:https://cobranashville.com/event/venue-critterbrain-l-i-p-s-rotten-luck-barcode/
ATTACH;FMTTYPE=image/jpeg:https://cobranashville.com/wp-content/uploads/2026/04/Untitled_Artwork-5.jpeg
END:VEVENT
BEGIN:VEVENT
DTSTART;TZID=America/Chicago:20260519T190000
DTEND;TZID=America/Chicago:20260519T190000
DTSTAMP:20260423T040747
CREATED:20260324T230617Z
LAST-MODIFIED:20260324T231349Z
UID:12947-1779217200-1779217200@cobranashville.com
SUMMARY:Venue: Confessions of a Traitor | Fight From Within | Exitwounds | Overeign | Dose Of Adolescence
DESCRIPTION:Tickets: $15 ADV | $20 DOS\n\n\n\n\n\n\n\n18 and UP +
URL:https://cobranashville.com/event/venue-confessions-of-a-traitor-fight-from-within-exitwounds-overeign-dose-of-adolescence/
ATTACH;FMTTYPE=image/jpeg:https://cobranashville.com/wp-content/uploads/2026/03/7258f679-cb37-496e-839c-ec93e6693d13.jpg
END:VEVENT
BEGIN:VEVENT
DTSTART;TZID=America/Chicago:20260520T190000
DTEND;TZID=America/Chicago:20260520T190000
DTSTAMP:20260423T040747
CREATED:20260312T013725Z
LAST-MODIFIED:20260312T022041Z
UID:12901-1779303600-1779303600@cobranashville.com
SUMMARY:Venue: Living Dead Girl | Decay | San Pedro
DESCRIPTION:Tickets: $15 ADV | $20 DOS\n\n\n\n\n\n\n\n18 and UP +
URL:https://cobranashville.com/event/venue-living-dead-girl-decay-san-pedro/
ATTACH;FMTTYPE=image/jpeg:https://cobranashville.com/wp-content/uploads/2026/03/decay.jpg
END:VEVENT
BEGIN:VEVENT
DTSTART;TZID=America/Chicago:20260523T190000
DTEND;TZID=America/Chicago:20260523T190000
DTSTAMP:20260423T040747
CREATED:20260413T010857Z
LAST-MODIFIED:20260413T013347Z
UID:13117-1779562800-1779562800@cobranashville.com
SUMMARY:Front Bar: Earl Bowman | Caitlin Mae | Kara Cole
DESCRIPTION:Tickets: $5 @ the Door\n\n\n\n\n\n\n\n21 and UP +
URL:https://cobranashville.com/event/front-bar-earl-bowman-caitlin-mae-kara-cole/
ATTACH;FMTTYPE=image/png:https://cobranashville.com/wp-content/uploads/2026/04/Earl-at-Cobra-scaled.png
END:VEVENT
BEGIN:VEVENT
DTSTART;TZID=America/Chicago:20260525T190000
DTEND;TZID=America/Chicago:20260525T190000
DTSTAMP:20260423T040747
CREATED:20260421T002717Z
LAST-MODIFIED:20260421T003136Z
UID:13147-1779735600-1779735600@cobranashville.com
SUMMARY:Venue: Collective Ex | Big Decisions | Speak Easy
DESCRIPTION:Tickets: $10 ADV | $15 DOS\n\n\n\n\n\n\n\n18 and UP +
URL:https://cobranashville.com/event/venue-collective-ex-big-decisions-speak-easy-2/
ATTACH;FMTTYPE=image/jpeg:https://cobranashville.com/wp-content/uploads/2026/04/Cobra-Show-flyer-Big-Decisions-scaled.jpg
END:VEVENT
BEGIN:VEVENT
DTSTART;TZID=America/Chicago:20260527T190000
DTEND;TZID=America/Chicago:20260527T190000
DTSTAMP:20260423T040747
CREATED:20260304T231913Z
LAST-MODIFIED:20260304T232809Z
UID:12831-1779908400-1779908400@cobranashville.com
SUMMARY:Venue: The Scream Queens | Adamic | Hardpoint
DESCRIPTION:Tickets: $10 ADV | $15 DOS\n\n\n\n\n\n\n\n18 and UP +
URL:https://cobranashville.com/event/venue-the-scream-queens-adamic-hardpoint/
ATTACH;FMTTYPE=image/jpeg:https://cobranashville.com/wp-content/uploads/2026/03/thecobraposter.jpg
END:VEVENT
BEGIN:VEVENT
DTSTART;TZID=America/Chicago:20260530T190000
DTEND;TZID=America/Chicago:20260530T190000
DTSTAMP:20260423T040747
CREATED:20260224T002836Z
LAST-MODIFIED:20260224T004434Z
UID:12745-1780167600-1780167600@cobranashville.com
SUMMARY:Front Bar: John Pronto | Lonesome Gold | Griffin Dunn
DESCRIPTION:Tickets: $5 @ the Door\n\n\n\n\n\n\n\n21 and UP +
URL:https://cobranashville.com/event/front-bar-john-pronto-lonesome-gold-griffin-dunn/
ATTACH;FMTTYPE=image/png:https://cobranashville.com/wp-content/uploads/2026/02/John-4.png
END:VEVENT
BEGIN:VEVENT
DTSTART;TZID=America/Chicago:20260609T190000
DTEND;TZID=America/Chicago:20260609T190000
DTSTAMP:20260423T040747
CREATED:20260325T004453Z
LAST-MODIFIED:20260325T005846Z
UID:12955-1781031600-1781031600@cobranashville.com
SUMMARY:Venue: Threnodian | Suicide Forest | Nocturnal Pulse | Quack
DESCRIPTION:Tickets: $15 ADV | $20 DOS\n\n\n\n\n\n\n\n18 and UP +
URL:https://cobranashville.com/event/venue-threnodian-suicide-forest-nocturnal-pulse-quack/
ATTACH;FMTTYPE=image/jpeg:https://cobranashville.com/wp-content/uploads/2026/03/IMG_5159.jpeg
END:VEVENT
BEGIN:VEVENT
DTSTART;TZID=America/Chicago:20260616T190000
DTEND;TZID=America/Chicago:20260616T190000
DTSTAMP:20260423T040747
CREATED:20260403T182641Z
LAST-MODIFIED:20260403T210151Z
UID:13026-1781636400-1781636400@cobranashville.com
SUMMARY:Venue: Saving Vice | Roderick | Resider | Five Year Winter | Valor
DESCRIPTION:Tickets: $15 ADV | $20 DOS\n\n\n\n\n\n\n\n18 and UP +
URL:https://cobranashville.com/event/venue-saving-vice-roderick-resider-five-year-winter-valor/
ATTACH;FMTTYPE=image/jpeg:https://cobranashville.com/wp-content/uploads/2026/04/ce30a72b-d52f-4566-9108-ee2e87dfce13.jpg
END:VEVENT
BEGIN:VEVENT
DTSTART;TZID=America/Chicago:20260617T190000
DTEND;TZID=America/Chicago:20260617T190000
DTSTAMP:20260423T040747
CREATED:20260319T230502Z
LAST-MODIFIED:20260319T233029Z
UID:12925-1781722800-1781722800@cobranashville.com
SUMMARY:Venue: Total Chaos | NOOGY | & More!
DESCRIPTION:Tickets: $15 ADV | $20 DOS\n\n\n\n\n\n\n\n18 and UP +
URL:https://cobranashville.com/event/venue-total-chaos-noogy-more/
ATTACH;FMTTYPE=image/jpeg:https://cobranashville.com/wp-content/uploads/2026/03/Total-Chaos-Flyer.jpg
END:VEVENT
BEGIN:VEVENT
DTSTART;TZID=America/Chicago:20260619T190000
DTEND;TZID=America/Chicago:20260619T190000
DTSTAMP:20260423T040747
CREATED:20260413T013515Z
LAST-MODIFIED:20260413T013756Z
UID:13121-1781895600-1781895600@cobranashville.com
SUMMARY:Venue: Sidious | 6deep | Vanta | Soul of Suki
DESCRIPTION:Tickets: $20\n\n\n\n\n\n\n\n18 and UP +
URL:https://cobranashville.com/event/venue-sidious-6deep-vanta-soul-of-suki/
ATTACH;FMTTYPE=image/png:https://cobranashville.com/wp-content/uploads/2026/04/Tennessee.png
END:VEVENT
END:VCALENDAR